BEGIN:VCALENDAR
VERSION:2.0
PRODID:calendify.com
BEGIN:VEVENT
UID:calendify-session-lEZgpL0NgnP
DTSTART:20210207T094000Z
SEQUENCE:0
TRANSP:OPAQUE
DTEND:20210207T102000Z
URL:https://calendify.com/session/lEZgpL0NgnP
LOCATION:D.openjdk
SUMMARY:The Future of Java on Raspberry Pi: Java\, JavaFX\, Raspberry Pi an
 d Electronics
CLASS:PUBLIC
DESCRIPTION:https://calendify.com/session/lEZgpL0NgnP
DTSTAMP:20260423T082426Z
CREATED:20210111T170320Z
LAST-MODIFIED:20210208T224804Z
END:VEVENT
END:VCALENDAR