BEGIN:VCALENDAR
VERSION:2.0
PRODID:calendify.com
BEGIN:VEVENT
UID:calendify-session-lEZgpL3XgnP
DTSTART:20210207T120500Z
SEQUENCE:0
TRANSP:OPAQUE
DTEND:20210207T125000Z
URL:https://calendify.com/session/lEZgpL3XgnP
LOCATION:D.cad
SUMMARY:KiCad Project Status
CLASS:PUBLIC
DESCRIPTION:https://calendify.com/session/lEZgpL3XgnP
DTSTAMP:20260420T140348Z
CREATED:20210114T155443Z
LAST-MODIFIED:20210208T224803Z
END:VEVENT
END:VCALENDAR