BEGIN:VCALENDAR
VERSION:2.0
PRODID:calendify.com
BEGIN:VEVENT
UID:calendify-session-lEZgpL6ygnP
DTSTART:20201228T143000Z
SEQUENCE:0
TRANSP:OPAQUE
DTEND:20201228T153000Z
URL:https://calendify.com/session/lEZgpL6ygnP
LOCATION:Wikipaka Meetups
SUMMARY:Wikidata meetup (EN)
CLASS:PUBLIC
DESCRIPTION:https://calendify.com/session/lEZgpL6ygnP
DTSTAMP:20260423T051758Z
CREATED:20210111T023303Z
LAST-MODIFIED:20211226T145831Z
END:VEVENT
END:VCALENDAR