BEGIN:VCALENDAR
VERSION:2.0
PRODID:calendify.com
BEGIN:VEVENT
UID:calendify-session-lEZgpL8EgnP
DTSTART:20210207T110000Z
SEQUENCE:0
TRANSP:OPAQUE
DTEND:20210207T120500Z
URL:https://calendify.com/session/lEZgpL8EgnP
LOCATION:D.emulator
SUMMARY:Best Little Emulator Ever Made! - part 1/3
CLASS:PUBLIC
DESCRIPTION:https://calendify.com/session/lEZgpL8EgnP
DTSTAMP:20260423T172509Z
CREATED:20210126T190821Z
LAST-MODIFIED:20210208T224804Z
END:VEVENT
END:VCALENDAR