BEGIN:VCALENDAR
VERSION:2.0
PRODID:calendify.com
BEGIN:VEVENT
UID:calendify-session-lEZgpL9XgnP
DTSTART:20210206T144000Z
SEQUENCE:0
TRANSP:OPAQUE
DTEND:20210206T150000Z
URL:https://calendify.com/session/lEZgpL9XgnP
LOCATION:L.lightningtalks
SUMMARY:Patching Democracy
CLASS:PUBLIC
DESCRIPTION:https://calendify.com/session/lEZgpL9XgnP
DTSTAMP:20260419T223421Z
CREATED:20210117T190818Z
LAST-MODIFIED:20210208T224802Z
END:VEVENT
END:VCALENDAR