BEGIN:VCALENDAR
VERSION:2.0
PRODID:calendify.com
BEGIN:VEVENT
UID:calendify-session-lEZgpLRognP
DTSTART:20210206T124500Z
SEQUENCE:0
TRANSP:OPAQUE
DTEND:20210206T133000Z
URL:https://calendify.com/session/lEZgpLRognP
LOCATION:D.virtualization
SUMMARY:oVirt monitoring with Grafana & advanced options
CLASS:PUBLIC
DESCRIPTION:https://calendify.com/session/lEZgpLRognP
DTSTAMP:20260423T160011Z
CREATED:20210111T170319Z
LAST-MODIFIED:20210208T224803Z
END:VEVENT
END:VCALENDAR