BEGIN:VCALENDAR
VERSION:2.0
PRODID:calendify.com
BEGIN:VEVENT
UID:calendify-session-lEZgpLZygnP
DTSTART:20210207T150000Z
SEQUENCE:0
TRANSP:OPAQUE
DTEND:20210207T163000Z
URL:https://calendify.com/session/lEZgpLZygnP
LOCATION:S.kde
SUMMARY:Kdenlive
CLASS:PUBLIC
DESCRIPTION:https://calendify.com/session/lEZgpLZygnP
DTSTAMP:20260419T212027Z
CREATED:20210207T094804Z
LAST-MODIFIED:20210208T224804Z
END:VEVENT
END:VCALENDAR