BEGIN:VCALENDAR
VERSION:2.0
PRODID:calendify.com
BEGIN:VEVENT
UID:calendify-session-lEZgpLrNgnP
DTSTART:20210207T140000Z
SEQUENCE:0
TRANSP:OPAQUE
DTEND:20210207T142000Z
URL:https://calendify.com/session/lEZgpLrNgnP
LOCATION:D.design
SUMMARY:Own Your Healthcare Experience: An Open Source Path
CLASS:PUBLIC
DESCRIPTION:https://calendify.com/session/lEZgpLrNgnP
DTSTAMP:20260419T212158Z
CREATED:20210111T170320Z
LAST-MODIFIED:20210208T224804Z
END:VEVENT
END:VCALENDAR