BEGIN:VCALENDAR
VERSION:2.0
PRODID:calendify.com
BEGIN:VEVENT
UID:calendify-session-lEZgpLwygnP
DTSTART:20210206T090000Z
SEQUENCE:0
TRANSP:OPAQUE
DTEND:20210206T094500Z
URL:https://calendify.com/session/lEZgpLwygnP
LOCATION:S.checkmk
SUMMARY:Ask-us-Anything
CLASS:PUBLIC
DESCRIPTION:https://calendify.com/session/lEZgpLwygnP
DTSTAMP:20260419T223501Z
CREATED:20210205T133303Z
LAST-MODIFIED:20210208T224803Z
END:VEVENT
END:VCALENDAR