BEGIN:VCALENDAR
VERSION:2.0
PRODID:calendify.com
BEGIN:VEVENT
UID:calendify-session-lEZgpR3XOnP
DTSTART:20231227T180000Z
SEQUENCE:0
TRANSP:OPAQUE
DTEND:20231227T184500Z
URL:https://calendify.com/session/lEZgpR3XOnP
LOCATION:Sendezentrum Stage (Saal F)
SUMMARY:The Diner Podcast live: Frauen in der Technik
CLASS:PUBLIC
DESCRIPTION:https://calendify.com/session/lEZgpR3XOnP
DTSTAMP:20260420T190546Z
CREATED:20231224T230004Z
LAST-MODIFIED:20240401T142932Z
END:VEVENT
END:VCALENDAR