BEGIN:VCALENDAR
VERSION:2.0
PRODID:calendify.com
BEGIN:VEVENT
UID:calendify-session-lEZgpR8EOnP
DTSTART:20231229T110000Z
SEQUENCE:0
TRANSP:OPAQUE
DTEND:20231229T120000Z
URL:https://calendify.com/session/lEZgpR8EOnP
LOCATION:Bits & Bäume Workshop Space
SUMMARY:Selforganized Sessioins with the tool Openki.net
CLASS:PUBLIC
DESCRIPTION:https://calendify.com/session/lEZgpR8EOnP
DTSTAMP:20260426T010602Z
CREATED:20231226T224002Z
LAST-MODIFIED:20240401T142932Z
END:VEVENT
END:VCALENDAR