BEGIN:VCALENDAR
VERSION:2.0
PRODID:calendify.com
BEGIN:VEVENT
UID:calendify-session-lEZgpRD6OnP
DTSTART:20240330T110000Z
SEQUENCE:0
TRANSP:OPAQUE
DTEND:20240330T130000Z
URL:https://calendify.com/session/lEZgpRD6OnP
LOCATION:Hardware Hegging Area - K005
SUMMARY:Freie Energie!!!1
CLASS:PUBLIC
DESCRIPTION:https://calendify.com/session/lEZgpRD6OnP
DTSTAMP:20260423T175933Z
CREATED:20240328T125150Z
LAST-MODIFIED:20240401T142841Z
END:VEVENT
END:VCALENDAR