BEGIN:VCALENDAR
VERSION:2.0
PRODID:calendify.com
BEGIN:VEVENT
UID:calendify-session-lEZgpRNyOnP
DTSTART:20231230T110000Z
SEQUENCE:0
TRANSP:OPAQUE
DTEND:20231230T115000Z
URL:https://calendify.com/session/lEZgpRNyOnP
LOCATION:Stage Y
SUMMARY:Megastrukturen und Galaktische Imperien (Wie man eine Dyson Sphäre
  baut)
CLASS:PUBLIC
DESCRIPTION:https://calendify.com/session/lEZgpRNyOnP
DTSTAMP:20260423T030746Z
CREATED:20231227T112003Z
LAST-MODIFIED:20240401T142934Z
END:VEVENT
END:VCALENDAR