BEGIN:VCALENDAR
VERSION:2.0
PRODID:calendify.com
BEGIN:VEVENT
UID:calendify-session-lEZgpRmaOnP
DTSTART:20230715T183000Z
SEQUENCE:0
TRANSP:OPAQUE
DTEND:20230715T200900Z
URL:https://calendify.com/session/lEZgpRmaOnP
LOCATION:Draußen
SUMMARY:23 - Nichts ist so wie es scheint
CLASS:PUBLIC
DESCRIPTION:https://calendify.com/session/lEZgpRmaOnP
DTSTAMP:20260422T110550Z
CREATED:20230806T113150Z
LAST-MODIFIED:20230806T113150Z
END:VEVENT
END:VCALENDAR