BEGIN:VCALENDAR
VERSION:2.0
PRODID:calendify.com
BEGIN:VEVENT
UID:calendify-session-lEZgpRneOnP
DTSTART:20231230T115500Z
SEQUENCE:0
TRANSP:OPAQUE
DTEND:20231230T123500Z
URL:https://calendify.com/session/lEZgpRneOnP
LOCATION:Saal 1
SUMMARY:Analog rotary phones get a second life with raspberry pi
CLASS:PUBLIC
DESCRIPTION:https://calendify.com/session/lEZgpRneOnP
DTSTAMP:20260421T010356Z
CREATED:20231215T204822Z
LAST-MODIFIED:20240401T142934Z
END:VEVENT
END:VCALENDAR