BEGIN:VCALENDAR
VERSION:2.0
PRODID:calendify.com
BEGIN:VEVENT
UID:calendify-session-lEZgpeJz4nP
DTSTART:20211227T220000Z
SEQUENCE:0
TRANSP:OPAQUE
DTEND:20211227T221500Z
URL:https://calendify.com/session/lEZgpeJz4nP
LOCATION:Chaosstudio Hamburg
SUMMARY:Lichtverschmutzung in Ballungsgebieten
CLASS:PUBLIC
DESCRIPTION:https://calendify.com/session/lEZgpeJz4nP
DTSTAMP:20260420T002317Z
CREATED:20211220T014016Z
LAST-MODIFIED:20211230T225002Z
END:VEVENT
END:VCALENDAR