BEGIN:VCALENDAR
VERSION:2.0
PRODID:calendify.com
BEGIN:VEVENT
UID:calendify-session-lEZgpeKe4nP
DTSTART:20211229T143000Z
SEQUENCE:0
TRANSP:OPAQUE
DTEND:20211229T151000Z
URL:https://calendify.com/session/lEZgpeKe4nP
LOCATION:r3s - Monheim/Rhein
SUMMARY:Transparenz durch offene Verwaltungsdaten gestalten
CLASS:PUBLIC
DESCRIPTION:https://calendify.com/session/lEZgpeKe4nP
DTSTAMP:20260421T012648Z
CREATED:20211220T014017Z
LAST-MODIFIED:20211230T225002Z
END:VEVENT
END:VCALENDAR