BEGIN:VCALENDAR
VERSION:2.0
PRODID:calendify.com
BEGIN:VEVENT
UID:calendify-session-lEZgpeLG4nP
DTSTART:20210313T133000Z
SEQUENCE:0
TRANSP:OPAQUE
DTEND:20210313T143000Z
URL:https://calendify.com/session/lEZgpeLG4nP
LOCATION:Zoom Room 7B
SUMMARY:0.0146 seconds | Live Interaction
CLASS:PUBLIC
DESCRIPTION:https://calendify.com/session/lEZgpeLG4nP
DTSTAMP:20260422T100543Z
CREATED:20210426T094928Z
LAST-MODIFIED:20210426T094928Z
END:VEVENT
END:VCALENDAR