BEGIN:VCALENDAR
VERSION:2.0
PRODID:calendify.com
BEGIN:VEVENT
UID:calendify-session-lEZgpeNX4nP
DTSTART:20211228T083000Z
SEQUENCE:0
TRANSP:OPAQUE
DTEND:20211228T103000Z
URL:https://calendify.com/session/lEZgpeNX4nP
LOCATION:Abchillgleis
SUMMARY:timo
CLASS:PUBLIC
DESCRIPTION:https://calendify.com/session/lEZgpeNX4nP
DTSTAMP:20260422T141303Z
CREATED:20211226T205000Z
LAST-MODIFIED:20211230T225002Z
END:VEVENT
END:VCALENDAR