BEGIN:VCALENDAR
VERSION:2.0
PRODID:calendify.com
BEGIN:VEVENT
UID:calendify-session-lEZgpeW14nP
DTSTART:20210308T181500Z
SEQUENCE:0
TRANSP:OPAQUE
DTEND:20210308T191500Z
URL:https://calendify.com/session/lEZgpeW14nP
LOCATION:Zoom Room 7B
SUMMARY:0.0146 seconds | Live Interaction
CLASS:PUBLIC
DESCRIPTION:https://calendify.com/session/lEZgpeW14nP
DTSTAMP:20260422T100042Z
CREATED:20210426T094926Z
LAST-MODIFIED:20210426T094926Z
END:VEVENT
END:VCALENDAR