BEGIN:VCALENDAR
VERSION:2.0
PRODID:calendify.com
BEGIN:VEVENT
UID:calendify-session-lEZgpepE4nP
DTSTART:20210316T133000Z
SEQUENCE:0
TRANSP:OPAQUE
DTEND:20210316T143000Z
URL:https://calendify.com/session/lEZgpepE4nP
LOCATION:Zoom Room 5A
SUMMARY:Firefox Eco-Mode and 1000 More Ideas for a Sustainable Internet
CLASS:PUBLIC
DESCRIPTION:https://calendify.com/session/lEZgpepE4nP
DTSTAMP:20260420T173739Z
CREATED:20210426T094928Z
LAST-MODIFIED:20210426T094928Z
END:VEVENT
END:VCALENDAR