BEGIN:VCALENDAR
VERSION:2.0
PRODID:calendify.com
BEGIN:VEVENT
UID:calendify-session-lEZgpera4nP
DTSTART:20210520T145500Z
SEQUENCE:0
TRANSP:OPAQUE
DTEND:20210520T152000Z
URL:https://calendify.com/session/lEZgpera4nP
LOCATION:Kanal 1
SUMMARY:Synthetische Medien\, Deepfakes und der Journalismus der Zukunft
CLASS:PUBLIC
DESCRIPTION:https://calendify.com/session/lEZgpera4nP
DTSTAMP:20260421T034109Z
CREATED:20210508T131338Z
LAST-MODIFIED:20210524T215002Z
END:VEVENT
END:VCALENDAR