BEGIN:VCALENDAR
VERSION:2.0
PRODID:calendify.com
BEGIN:VEVENT
UID:calendify-session-lEZgpeye4nP
DTSTART:20211228T160000Z
SEQUENCE:0
TRANSP:OPAQUE
DTEND:20211228T163000Z
URL:https://calendify.com/session/lEZgpeye4nP
LOCATION:FeM Channel
SUMMARY:Introduction to the dark arts of floating point numbers
CLASS:PUBLIC
DESCRIPTION:https://calendify.com/session/lEZgpeye4nP
DTSTAMP:20260420T125432Z
CREATED:20211220T014017Z
LAST-MODIFIED:20211230T225002Z
END:VEVENT
END:VCALENDAR