BEGIN:VCALENDAR
VERSION:2.0
PRODID:calendify.com
BEGIN:VEVENT
UID:calendify-session-lEZgpkVGMnP
DTSTART:20230407T210000Z
SEQUENCE:0
TRANSP:OPAQUE
DTEND:20230407T215000Z
URL:https://calendify.com/session/lEZgpkVGMnP
LOCATION:K2 Rahel Liebeschütz-Plaut
SUMMARY:Das PLATO-System - Ein unbekannte aber prägende Perle im Urschleim
  unser Cyberkultur
CLASS:PUBLIC
DESCRIPTION:https://calendify.com/session/lEZgpkVGMnP
DTSTAMP:20260422T162030Z
CREATED:20230309T185708Z
LAST-MODIFIED:20230409T215003Z
END:VEVENT
END:VCALENDAR