BEGIN:VCALENDAR
VERSION:2.0
PRODID:calendify.com
BEGIN:VEVENT
UID:calendify-session-lEZgpkezMnP
DTSTART:20221230T110000Z
SEQUENCE:0
TRANSP:OPAQUE
DTEND:20221230T113000Z
URL:https://calendify.com/session/lEZgpkezMnP
LOCATION:RTC-Bühne (Sparti)
SUMMARY:Closing Ceremony
CLASS:PUBLIC
DESCRIPTION:https://calendify.com/session/lEZgpkezMnP
DTSTAMP:20260420T130010Z
CREATED:20221221T112453Z
LAST-MODIFIED:20221230T225004Z
END:VEVENT
END:VCALENDAR