BEGIN:VCALENDAR
VERSION:2.0
PRODID:calendify.com
BEGIN:VEVENT
UID:calendify-session-lEZgpkyaMnP
DTSTART:20230609T170000Z
SEQUENCE:0
TRANSP:OPAQUE
DTEND:20230609T180000Z
URL:https://calendify.com/session/lEZgpkyaMnP
LOCATION:Raum 112 (HFG)
SUMMARY:Beginner workshop - How to plan & build your own LED project
CLASS:PUBLIC
DESCRIPTION:https://calendify.com/session/lEZgpkyaMnP
DTSTAMP:20260423T081839Z
CREATED:20230527T091821Z
LAST-MODIFIED:20230611T215002Z
END:VEVENT
END:VCALENDAR