BEGIN:VCALENDAR
VERSION:2.0
PRODID:calendify.com
BEGIN:VEVENT
UID:calendify-session-lEZgpm364nP
DTSTART:20180512T123000Z
SEQUENCE:0
TRANSP:OPAQUE
DTEND:20180512T133000Z
URL:https://calendify.com/session/lEZgpm364nP
LOCATION:ZKM_Vortragssaal
SUMMARY:ada_conf - the making of a separatistic IT conference
CLASS:PUBLIC
DESCRIPTION:https://calendify.com/session/lEZgpm364nP
DTSTAMP:20260422T044329Z
CREATED:20200513T011828Z
LAST-MODIFIED:20200513T011828Z
END:VEVENT
END:VCALENDAR