BEGIN:VCALENDAR
VERSION:2.0
PRODID:calendify.com
BEGIN:VEVENT
UID:calendify-session-lEZgpmKo4nP
DTSTART:20200201T101000Z
SEQUENCE:0
TRANSP:OPAQUE
DTEND:20200201T103000Z
URL:https://calendify.com/session/lEZgpmKo4nP
LOCATION:H.2214
SUMMARY:MyRocks in the Wild Wild West!
CLASS:PUBLIC
DESCRIPTION:https://calendify.com/session/lEZgpmKo4nP
DTSTAMP:20260423T122215Z
CREATED:20200513T234730Z
LAST-MODIFIED:20210426T093308Z
END:VEVENT
END:VCALENDAR