BEGIN:VCALENDAR
VERSION:2.0
PRODID:calendify.com
BEGIN:VEVENT
UID:calendify-session-lEZgpmXe4nP
DTSTART:20200201T093000Z
SEQUENCE:0
TRANSP:OPAQUE
DTEND:20200201T095500Z
URL:https://calendify.com/session/lEZgpmXe4nP
LOCATION:UD2.218A
SUMMARY:Integrating Julius Speech Recognition Engine
CLASS:PUBLIC
DESCRIPTION:https://calendify.com/session/lEZgpmXe4nP
DTSTAMP:20260420T233436Z
CREATED:20200513T234731Z
LAST-MODIFIED:20210426T093308Z
END:VEVENT
END:VCALENDAR