BEGIN:VCALENDAR
VERSION:2.0
PRODID:calendify.com
BEGIN:VEVENT
UID:calendify-session-lEZgpmrG4nP
DTSTART:20190601T143000Z
SEQUENCE:0
TRANSP:OPAQUE
DTEND:20190601T153000Z
URL:https://calendify.com/session/lEZgpmrG4nP
LOCATION:ZKM_Medientheater
SUMMARY:Moderne Kommandozeilen-Werkzeuge (endgültig_letzte_Version)
CLASS:PUBLIC
DESCRIPTION:https://calendify.com/session/lEZgpmrG4nP
DTSTAMP:20260422T023358Z
CREATED:20200509T115113Z
LAST-MODIFIED:20200509T115113Z
END:VEVENT
END:VCALENDAR