BEGIN:VCALENDAR
VERSION:2.0
PRODID:calendify.com
BEGIN:VEVENT
UID:calendify-session-lEZgppBygnP
DTSTART:20220726T110000Z
SEQUENCE:0
TRANSP:OPAQUE
DTEND:20220726T115000Z
URL:https://calendify.com/session/lEZgppBygnP
LOCATION:Battery 🔋
SUMMARY:How do GPS/Galileo really work & how the galmon.eu monitors all nav
 igation satellites
CLASS:PUBLIC
DESCRIPTION:https://calendify.com/session/lEZgppBygnP
DTSTAMP:20260423T191507Z
CREATED:20220620T212436Z
LAST-MODIFIED:20220726T182703Z
END:VEVENT
END:VCALENDAR