BEGIN:VCALENDAR
VERSION:2.0
PRODID:calendify.com
BEGIN:VEVENT
UID:calendify-session-lEZgppD1gnP
DTSTART:20220611T081500Z
SEQUENCE:0
TRANSP:OPAQUE
DTEND:20220611T085500Z
URL:https://calendify.com/session/lEZgppD1gnP
LOCATION:.txt Stage
SUMMARY:Poesie\, Politik und Identität - Hadija Haruna-Oelker im Gespräch
  mit Dmitrij Kapitelman
CLASS:PUBLIC
DESCRIPTION:https://calendify.com/session/lEZgppD1gnP
DTSTAMP:20260423T161322Z
CREATED:20220526T162949Z
LAST-MODIFIED:20220613T235204Z
END:VEVENT
END:VCALENDAR