BEGIN:VCALENDAR
VERSION:2.0
PRODID:calendify.com
BEGIN:VEVENT
UID:calendify-session-lEZgppjegnP
DTSTART:20220610T104500Z
SEQUENCE:0
TRANSP:OPAQUE
DTEND:20220610T111500Z
URL:https://calendify.com/session/lEZgppjegnP
LOCATION:Stage 5
SUMMARY:Wie man WIRKLICH nachhaltig lernen kann...
CLASS:PUBLIC
DESCRIPTION:https://calendify.com/session/lEZgppjegnP
DTSTAMP:20260423T215426Z
CREATED:20220526T162948Z
LAST-MODIFIED:20220613T235204Z
END:VEVENT
END:VCALENDAR