BEGIN:VCALENDAR
VERSION:2.0
PRODID:calendify.com
BEGIN:VEVENT
UID:calendify-session-lEZgppxzgnP
DTSTART:20220205T090000Z
SEQUENCE:0
TRANSP:OPAQUE
DTEND:20220205T090500Z
URL:https://calendify.com/session/lEZgppxzgnP
LOCATION:D.research
SUMMARY:Welcome to the Open Research Tools and Technologies devroom
CLASS:PUBLIC
DESCRIPTION:https://calendify.com/session/lEZgppxzgnP
DTSTAMP:20260421T012515Z
CREATED:20220201T140103Z
LAST-MODIFIED:20220206T225003Z
END:VEVENT
END:VCALENDAR