BEGIN:VCALENDAR
VERSION:2.0
PRODID:calendify.com
BEGIN:VEVENT
UID:calendify-session-lEZgpvZoOnP
DTSTART:20201227T150000Z
SEQUENCE:0
TRANSP:OPAQUE
DTEND:20201227T151000Z
URL:https://calendify.com/session/lEZgpvZoOnP
LOCATION:chaosstudio-hamburg
SUMMARY:close encounters @rc3 #1
CLASS:PUBLIC
DESCRIPTION:https://calendify.com/session/lEZgpvZoOnP
DTSTAMP:20260423T174639Z
CREATED:20201223T142027Z
LAST-MODIFIED:20211226T143400Z
END:VEVENT
END:VCALENDAR