BEGIN:VCALENDAR
VERSION:2.0
PRODID:calendify.com
BEGIN:VEVENT
UID:calendify-session-naJOP1akM29
DTSTART:20260201T135500Z
SEQUENCE:0
TRANSP:OPAQUE
DTEND:20260201T142000Z
URL:https://calendify.com/session/naJOP1akM29
LOCATION:H.2213
SUMMARY:AI-based failure aggregation
CLASS:PUBLIC
DESCRIPTION:https://calendify.com/session/naJOP1akM29
DTSTAMP:20260424T083524Z
CREATED:20260131T063315Z
LAST-MODIFIED:20260201T163231Z
END:VEVENT
END:VCALENDAR