BEGIN:VCALENDAR
VERSION:2.0
PRODID:calendify.com
BEGIN:VEVENT
UID:calendify-session-naJOP6BWg29
DTSTART:20210309T144500Z
SEQUENCE:0
TRANSP:OPAQUE
DTEND:20210309T154500Z
URL:https://calendify.com/session/naJOP6BWg29
LOCATION:Zoom Room 6B
SUMMARY:Emergent Session 1
CLASS:PUBLIC
DESCRIPTION:https://calendify.com/session/naJOP6BWg29
DTSTAMP:20260420T220501Z
CREATED:20210426T094927Z
LAST-MODIFIED:20210426T094927Z
END:VEVENT
END:VCALENDAR