BEGIN:VCALENDAR
VERSION:2.0
PRODID:calendify.com
BEGIN:VEVENT
UID:calendify-session-naJOP6Nwg29
DTSTART:20211229T230000Z
SEQUENCE:0
TRANSP:OPAQUE
DTEND:20211230T005000Z
URL:https://calendify.com/session/naJOP6Nwg29
LOCATION:about:future stage
SUMMARY:Waffelbacken mit schördingers Speaker*in
CLASS:PUBLIC
DESCRIPTION:https://calendify.com/session/naJOP6Nwg29
DTSTAMP:20260421T043746Z
CREATED:20211220T014017Z
LAST-MODIFIED:20211230T225002Z
END:VEVENT
END:VCALENDAR