BEGIN:VCALENDAR
VERSION:2.0
PRODID:calendify.com
BEGIN:VEVENT
UID:calendify-session-naJOP6WKg29
DTSTART:20210917T160000Z
SEQUENCE:0
TRANSP:OPAQUE
DTEND:20210917T180000Z
URL:https://calendify.com/session/naJOP6WKg29
LOCATION:Großer Saal
SUMMARY:Diskriminierungssensible Veranstaltungen planen und umsetzen
CLASS:PUBLIC
DESCRIPTION:https://calendify.com/session/naJOP6WKg29
DTSTAMP:20260420T045214Z
CREATED:20210915T130223Z
LAST-MODIFIED:20210919T182448Z
END:VEVENT
END:VCALENDAR