BEGIN:VCALENDAR
VERSION:2.0
PRODID:calendify.com
BEGIN:VEVENT
UID:calendify-session-naJOP6ZLg29
DTSTART:20210522T100500Z
SEQUENCE:0
TRANSP:OPAQUE
DTEND:20210522T103000Z
URL:https://calendify.com/session/naJOP6ZLg29
LOCATION:Kanal 1
SUMMARY:JEDER MENSCH für neue Grundrechte in Europa!
CLASS:PUBLIC
DESCRIPTION:https://calendify.com/session/naJOP6ZLg29
DTSTAMP:20260423T031932Z
CREATED:20210505T232421Z
LAST-MODIFIED:20210601T203704Z
END:VEVENT
END:VCALENDAR