BEGIN:VCALENDAR
VERSION:2.0
PRODID:calendify.com
BEGIN:VEVENT
UID:calendify-session-naJOP6qwg29
DTSTART:20210308T133000Z
SEQUENCE:0
TRANSP:OPAQUE
DTEND:20210308T143000Z
URL:https://calendify.com/session/naJOP6qwg29
LOCATION:Zoom Room 3A
SUMMARY:Accessible Data Security
CLASS:PUBLIC
DESCRIPTION:https://calendify.com/session/naJOP6qwg29
DTSTAMP:20260424T175029Z
CREATED:20210426T094926Z
LAST-MODIFIED:20210426T094926Z
END:VEVENT
END:VCALENDAR