BEGIN:VCALENDAR
VERSION:2.0
PRODID:calendify.com
BEGIN:VEVENT
UID:calendify-session-naJOP6w0g29
DTSTART:20210313T133000Z
SEQUENCE:0
TRANSP:OPAQUE
DTEND:20210313T143000Z
URL:https://calendify.com/session/naJOP6w0g29
LOCATION:Zoom Room 2A
SUMMARY:Identity theft is not a joke Jim
CLASS:PUBLIC
DESCRIPTION:https://calendify.com/session/naJOP6w0g29
DTSTAMP:20260422T164137Z
CREATED:20210426T094928Z
LAST-MODIFIED:20210426T094928Z
END:VEVENT
END:VCALENDAR