BEGIN:VCALENDAR
VERSION:2.0
PRODID:calendify.com
BEGIN:VEVENT
UID:calendify-session-naJOP6yQg29
DTSTART:20210522T113000Z
SEQUENCE:0
TRANSP:OPAQUE
DTEND:20210522T115500Z
URL:https://calendify.com/session/naJOP6yQg29
LOCATION:Kanal 1
SUMMARY:Ohne Event nicht existent?
CLASS:PUBLIC
DESCRIPTION:https://calendify.com/session/naJOP6yQg29
DTSTAMP:20260423T015905Z
CREATED:20210511T220534Z
LAST-MODIFIED:20210524T215002Z
END:VEVENT
END:VCALENDAR