BEGIN:VCALENDAR
VERSION:2.0
PRODID:calendify.com
BEGIN:VEVENT
UID:calendify-session-naJOP6zkg29
DTSTART:20210318T191500Z
SEQUENCE:0
TRANSP:OPAQUE
DTEND:20210318T201500Z
URL:https://calendify.com/session/naJOP6zkg29
LOCATION:Zoom Room 8A
SUMMARY:0.0146 seconds | Live Interaction
CLASS:PUBLIC
DESCRIPTION:https://calendify.com/session/naJOP6zkg29
DTSTAMP:20260420T185633Z
CREATED:20210426T094931Z
LAST-MODIFIED:20210426T094931Z
END:VEVENT
END:VCALENDAR