BEGIN:VCALENDAR
VERSION:2.0
PRODID:calendify.com
BEGIN:VEVENT
UID:calendify-session-naJOP88LO29
DTSTART:20210206T123000Z
SEQUENCE:0
TRANSP:OPAQUE
DTEND:20210206T130000Z
URL:https://calendify.com/session/naJOP88LO29
LOCATION:D.emulator
SUMMARY:Do you even emulate\, (Super Mario) bro?
CLASS:PUBLIC
DESCRIPTION:https://calendify.com/session/naJOP88LO29
DTSTAMP:20260421T235259Z
CREATED:20210111T170318Z
LAST-MODIFIED:20210208T224802Z
END:VEVENT
END:VCALENDAR