BEGIN:VCALENDAR
VERSION:2.0
PRODID:calendify.com
BEGIN:VEVENT
UID:calendify-session-naJOP8A0O29
DTSTART:20201230T160000Z
SEQUENCE:0
TRANSP:OPAQUE
DTEND:20201230T170000Z
URL:https://calendify.com/session/naJOP8A0O29
LOCATION:Bitwäscherei Zürich
SUMMARY:YOOROO Hip Hop
CLASS:PUBLIC
DESCRIPTION:https://calendify.com/session/naJOP8A0O29
DTSTAMP:20260423T092032Z
CREATED:20201230T044803Z
LAST-MODIFIED:20210114T154804Z
END:VEVENT
END:VCALENDAR