BEGIN:VCALENDAR
VERSION:2.0
PRODID:calendify.com
BEGIN:VEVENT
UID:calendify-session-naJOP8JkO29
DTSTART:20210206T130000Z
SEQUENCE:0
TRANSP:OPAQUE
DTEND:20210206T150000Z
URL:https://calendify.com/session/naJOP8JkO29
LOCATION:S.ntop
SUMMARY:Chat With the ntop Developers
CLASS:PUBLIC
DESCRIPTION:https://calendify.com/session/naJOP8JkO29
DTSTAMP:20260419T225517Z
CREATED:20210203T141803Z
LAST-MODIFIED:20210208T224803Z
END:VEVENT
END:VCALENDAR