BEGIN:VCALENDAR
VERSION:2.0
PRODID:calendify.com
BEGIN:VEVENT
UID:calendify-session-naJOP8R1O29
DTSTART:20210207T141500Z
SEQUENCE:0
TRANSP:OPAQUE
DTEND:20210207T150000Z
URL:https://calendify.com/session/naJOP8R1O29
LOCATION:D.declarative.minimalistic
SUMMARY:Spritely Goblins: a distributed journey
CLASS:PUBLIC
DESCRIPTION:https://calendify.com/session/naJOP8R1O29
DTSTAMP:20260423T083403Z
CREATED:20210111T170319Z
LAST-MODIFIED:20210208T224804Z
END:VEVENT
END:VCALENDAR