BEGIN:VCALENDAR
VERSION:2.0
PRODID:calendify.com
BEGIN:VEVENT
UID:calendify-session-naJOP8o1O29
DTSTART:20210313T144500Z
SEQUENCE:0
TRANSP:OPAQUE
DTEND:20210313T154500Z
URL:https://calendify.com/session/naJOP8o1O29
LOCATION:Zoom Room 3B
SUMMARY:Anti-Surveillance Toolkit for the Remote Worker
CLASS:PUBLIC
DESCRIPTION:https://calendify.com/session/naJOP8o1O29
DTSTAMP:20260420T173544Z
CREATED:20210426T094603Z
LAST-MODIFIED:20210426T094928Z
END:VEVENT
END:VCALENDAR