BEGIN:VCALENDAR
VERSION:2.0
PRODID:calendify.com
BEGIN:VEVENT
UID:calendify-session-naJOPR8wg29
DTSTART:20241229T140000Z
SEQUENCE:0
TRANSP:OPAQUE
DTEND:20241229T144500Z
URL:https://calendify.com/session/naJOPR8wg29
LOCATION:Saal X 07
SUMMARY:Aufräumen Podcast
CLASS:PUBLIC
DESCRIPTION:https://calendify.com/session/naJOPR8wg29
DTSTAMP:20260423T190840Z
CREATED:20241227T141512Z
LAST-MODIFIED:20250101T225003Z
END:VEVENT
END:VCALENDAR